BEGIN:VCALENDAR
VERSION:2.0
METHOD:PUBLISH
PRODID:-//Accessible Web Design//My Calendar//http://www.joedolson.com//v//EN';
BEGIN:VEVENT
UID:615-139
LOCATION:Benn Wilmersdorf Blissestraße 70  Berlin  10713
SUMMARY:WILMA's Mitmachküche
DTSTAMP:20260618T170000
ORGANIZER;CN=admin:MAILTO:websites@mts-socialdesign.com
DTSTART:20260618T170000
DTEND:20260618T190000
CATEGORIES:BENN Wilmersdorf Veranstaltungen
URL;VALUE=URI:https://benn-wilmersdorf.de/mc-events/wilmas-mitmachkueche-3/?mc_id=615
DESCRIPTION:Ein interkultureller Kochabend mit gemeinschaftlichen Abendessen für eine freundliche Nachbarschaft! Ob ukrainische Piroggen, arabische Falafel oder italienische Pizza - jede Mitmachküche ist anders. Nachbar:innen kochen für Nachbar:innen! Kommt vorbei zum schnippeln, schnacken und die Gemeinschaft genießen:) Wie immer bei BENN ist alles kostenlos. WO? BENN Wilmersdorf, Blissestraße 70, 10713 Berlin Bitte anmelden unter benn-wilmersdorf@mts-socialdesign.com oder&hellip;
END:VEVENT
END:VCALENDAR