BEGIN:VCALENDAR
VERSION:2.0
METHOD:PUBLISH
PRODID:-//Accessible Web Design//My Calendar//http://www.joedolson.com//v//EN';
BEGIN:VEVENT
UID:568-125
LOCATION:Haus der Nachbarschafft Str. am Schoelerpark 37  Berlin  10715
SUMMARY:BENN Kiezcafé im Haus der Nachbarschafft
DTSTAMP:20260424T150000
ORGANIZER;CN=admin:MAILTO:websites@mts-socialdesign.com
DTSTART:20260424T150000
DTEND:20260424T170000
CATEGORIES:BENN Wilmersdorf Veranstaltungen
URL;VALUE=URI:https://benn-wilmersdorf.de/mc-events/benn-sportnachmittag-im-haus-der-nachbarschafft/?mc_id=568
DESCRIPTION:Hast du Lust auf einen entspannten Nachmittag in deiner Nachbarschaft? Genieße erfrischende Getränke, Snacks und tolle Angebote für Jung und Alt. Alles kostenlos:) Komm vorbei und lass dich überraschen! JEDEN FREITAG VON 15 BIS 17 UHR WO? Haus der Nachbarschafft, Straße am Schoelerpark 37, 10715 Berlin FRAGEN? benn-wilmersdorf@mts-socialdesign.com oder 017624753773
END:VEVENT
END:VCALENDAR