BEGIN:VCALENDAR
VERSION:2.0
METHOD:PUBLISH
PRODID:-//Accessible Web Design//My Calendar//http://www.joedolson.com//v//EN';
BEGIN:VEVENT
UID:548-120
LOCATION:Haus der Nachbarschafft Str. am Schoelerpark 37  Berlin  10715
SUMMARY:Open Air Kino im Haus der Nachbarschafft
DTSTAMP:20250816T203000
ORGANIZER;CN=admin:MAILTO:websites@mts-socialdesign.com
DTSTART:20250816T203000
DTEND:20250816T213000
CATEGORIES:Kiez Veranstaltungen
URL;VALUE=URI:https://benn-wilmersdorf.de/mc-events/open-air-kino-im-haus-der-nachbarschafft-3/?mc_id=548
DESCRIPTION:Gezeigt wird ein Überraschungsfilm! Ein paar Hinweise: "Einer der 10 besten Filme aller Zeiten. Italien 1963. Von Federico Fellini."
END:VEVENT
END:VCALENDAR