BEGIN:VCALENDAR
VERSION:2.0
METHOD:PUBLISH
PRODID:-//Accessible Web Design//My Calendar//http://www.joedolson.com//v//EN';
BEGIN:VEVENT
UID:533-109
LOCATION:Benn Wilmersdorf Blissestraße 70  Berlin  10713
SUMMARY:Sommertage bei BENN (Jugendprogramm) - Tischkicker &amp; Veggie HotDogs
DTSTAMP:20250821T150000
ORGANIZER;CN=admin:MAILTO:websites@mts-socialdesign.com
DTSTART:20250821T150000
DTEND:20250821T180000
CATEGORIES:BENN Wilmersdorf Veranstaltungen
URL;VALUE=URI:https://benn-wilmersdorf.de/mc-events/sommertage-bei-benn-jugendprogramm-tischkicker-veggie-hotdogs/?mc_id=533
DESCRIPTION:
END:VEVENT
END:VCALENDAR