BEGIN:VCALENDAR
VERSION:2.0
METHOD:PUBLISH
PRODID:-//Accessible Web Design//My Calendar//http://www.joedolson.com//v//EN';
BEGIN:VEVENT
UID:531-107
LOCATION:Benn Wilmersdorf Blissestraße 70  Berlin  10713
SUMMARY:Sommertage bei BENN (Jugendprogramm) - Veggie Burger
DTSTAMP:20250812T150000
ORGANIZER;CN=admin:MAILTO:websites@mts-socialdesign.com
DTSTART:20250812T150000
DTEND:20250812T180000
CATEGORIES:BENN Wilmersdorf Veranstaltungen
URL;VALUE=URI:https://benn-wilmersdorf.de/mc-events/sommertage-bei-benn-jugendprogramm-veggie-burger/?mc_id=531
DESCRIPTION:
END:VEVENT
END:VCALENDAR