BEGIN:VCALENDAR
VERSION:2.0
METHOD:PUBLISH
PRODID:-//Accessible Web Design//My Calendar//http://www.joedolson.com//v//EN';
BEGIN:VEVENT
UID:520-96
LOCATION:
SUMMARY:BENN Büroeröffnung
DTSTAMP:20250605T160000
ORGANIZER;CN=admin:MAILTO:websites@mts-socialdesign.com
DTSTART:20250605T160000
DTEND:20250605T190000
CATEGORIES:BENN Wilmersdorf Veranstaltungen
URL;VALUE=URI:https://benn-wilmersdorf.de/mc-events/benn-bueroeroeffnung-2/?mc_id=520
DESCRIPTION:
END:VEVENT
END:VCALENDAR