BEGIN:VCALENDAR
VERSION:2.0
METHOD:PUBLISH
PRODID:-//Accessible Web Design//My Calendar//http://www.joedolson.com//v//EN';
BEGIN:VEVENT
UID:518-94
LOCATION:Volkspark Wilmersdorf   Berlin  10715
SUMMARY:Tag im Park (mit Mosta)
DTSTAMP:20250617T143000
ORGANIZER;CN=admin:MAILTO:websites@mts-socialdesign.com
DTSTART:20250617T143000
DTEND:20250617T153000
CATEGORIES:BENN Wilmersdorf Veranstaltungen
URL;VALUE=URI:https://benn-wilmersdorf.de/mc-events/tag-im-park-mit-mosta/?mc_id=518
DESCRIPTION:
END:VEVENT
END:VCALENDAR