BEGIN:VCALENDAR
VERSION:2.0
METHOD:PUBLISH
PRODID:-//Accessible Web Design//My Calendar//http://www.joedolson.com//v//EN';
BEGIN:VEVENT
UID:516-92
LOCATION:Haus der Nachbarschafft Str. am Schoelerpark 37  Berlin  10715
SUMMARY:Umsonst-Flohmarkt
DTSTAMP:20250523T130000
ORGANIZER;CN=admin:MAILTO:websites@mts-socialdesign.com
DTSTART:20250523T130000
DTEND:20250523T170000
CATEGORIES:wöchentliches BENN Angebot
URL;VALUE=URI:https://benn-wilmersdorf.de/mc-events/umsonst-flohmarkt/?mc_id=516
DESCRIPTION:
END:VEVENT
END:VCALENDAR