BEGIN:VCALENDAR
VERSION:2.0
METHOD:PUBLISH
PRODID:-//Accessible Web Design//My Calendar//http://www.joedolson.com//v//EN';
BEGIN:VEVENT
UID:511-87
LOCATION:Haus der Nachbarschafft Str. am Schoelerpark 37  Berlin  10715
SUMMARY:BSR Kieztag
DTSTAMP:20250611T130000
ORGANIZER;CN=admin:MAILTO:websites@mts-socialdesign.com
DTSTART:20250611T130000
DTEND:20250611T180000
CATEGORIES:wöchentliches BENN Angebot
URL;VALUE=URI:https://benn-wilmersdorf.de/mc-events/bsr-kieztag/?mc_id=511
DESCRIPTION:Nächste Termine in Wilmersdorf: Mittwoch, 11.6.2025 – 13:00 Uhr – 18:00 Uhr: Haus der Nachbarschafft, Straße am Schoelerpark 37 Donnerstag, 19.6.2025 – 13:00 Uhr – 18:00 Uhr: Leon-Jessel-Platz, Haus Ferchnerstr. 27 In Zusammenarbeit mit Ihren Bezirksämtern bietet Ihnen die Berliner Stadtreinigung BSR-Kieztage in Ihrer Nähe an. Bringen Sie Kaputtes und Altes, ob Groß oder Klein,&hellip;
END:VEVENT
END:VCALENDAR