BEGIN:VCALENDAR
VERSION:2.0
METHOD:PUBLISH
PRODID:-//Accessible Web Design//My Calendar//http://www.joedolson.com//v//EN';
BEGIN:VEVENT
UID:510-86
LOCATION:
SUMMARY:Sportnachmittag mit Fußball, Tischtennis, Zumba, Discgolf &amp; Co
DTSTAMP:20250329T120000
ORGANIZER;CN=admin:MAILTO:websites@mts-socialdesign.com
DTSTART:20250329T120000
DTEND:20250329T170000
CATEGORIES:BENN Wilmersdorf Veranstaltungen
URL;VALUE=URI:https://benn-wilmersdorf.de/mc-events/sportnachmittag-mit-fussball-tischtennis-zumba-discgolf-co/?mc_id=510
DESCRIPTION:Von der Insel in den Park! Im Rahmen der Aktionswochen gegen Rassismus veranstalten wir unter anderem gemeinsam mit BENN Mierendorffinsel, dem SPORT BUNT, Pfeffersport und den DiscKids einen großen Sportausflug. Los geht es vor der Sporthalle Charlottenburg, wo wir Fußball und weitere Bewegungsangebote ausrichten. Von dort aus werden wir gemeinsam zum Volkspark Wilmersdorf ziehen und&hellip;
END:VEVENT
END:VCALENDAR