BEGIN:VCALENDAR
VERSION:2.0
METHOD:PUBLISH
PRODID:-//Accessible Web Design//My Calendar//http://www.joedolson.com//v//EN';
BEGIN:VEVENT
UID:506-82
LOCATION:Restaurant Garçon Fechnerstraße 30  Berlin  10717
SUMMARY:Kieztreffen Restaurant Garçon
DTSTAMP:20250322T190000
ORGANIZER;CN=admin:MAILTO:websites@mts-socialdesign.com
DTSTART:20250322T190000
DTEND:20250322T200000
CATEGORIES:wöchentliches BENN Angebot
URL;VALUE=URI:https://benn-wilmersdorf.de/mc-events/kieztreffen-restaurant-garcon/?mc_id=506
DESCRIPTION:
END:VEVENT
END:VCALENDAR