BEGIN:VCALENDAR
VERSION:2.0
METHOD:PUBLISH
PRODID:-//Accessible Web Design//My Calendar//http://www.joedolson.com//v//EN';
BEGIN:VEVENT
UID:502-78
LOCATION:Horst-Dohm-Eisstadion Fritz-Wildung-Straße 9  Berlin   14199
SUMMARY:Eislaufen mit der Nachbarschaft
DTSTAMP:20250213T153000
ORGANIZER;CN=admin:MAILTO:websites@mts-socialdesign.com
DTSTART:20250213T153000
DTEND:20250213T163000
CATEGORIES:wöchentliches BENN Angebot
URL;VALUE=URI:https://benn-wilmersdorf.de/mc-events/eislaufen-mit-der-nachbarschaft/?mc_id=502
DESCRIPTION:
END:VEVENT
END:VCALENDAR