BEGIN:VCALENDAR
VERSION:2.0
METHOD:PUBLISH
PRODID:-//Accessible Web Design//My Calendar//http://www.joedolson.com//v//EN';
BEGIN:VEVENT
UID:437-60
LOCATION:Volkspark Wilmersdorf   Berlin  10715
SUMMARY:Jugendkunstschule Charlottenburg-Wilmersdorf I Malwiese im Volkspark Wilmersdorf
DTSTAMP:20240725T100000
ORGANIZER;CN=admin:MAILTO:websites@mts-socialdesign.com
DTSTART:20240725T100000
DTEND:20240725T160000
CATEGORIES:wöchentliches BENN Angebot
URL;VALUE=URI:https://benn-wilmersdorf.de/mc-events/jugendkunstschule-charlottenburg-wilmersdorf-i-malwiese-im-volkspark-wilmersdorf-4/?mc_id=437
DESCRIPTION:Vom 22. Juli bis zum 2. August 2024 findet zum zweiten Mal die Malwiese im Volkspark Wilmersdorf statt. Ab kommender Woche laden wir Euch herzlich ein, im Volkspark Wilmersdorf auf der Wiese zwischen der Straße am Schoelerpark und der Straße „Am Volkspark“ an unserer kreativen Malwiese teilzunehmen. Künstler*innen der Jugendkunstschule Charlottenburg-Wilmersdorf erwarten Euch, Kinder ab&hellip;
END:VEVENT
END:VCALENDAR