BEGIN:VCALENDAR
VERSION:2.0
METHOD:PUBLISH
PRODID:-//Accessible Web Design//My Calendar//http://www.joedolson.com//v//EN';
BEGIN:VEVENT
UID:432-55
LOCATION:
SUMMARY:BENN Wilmersdorf I BENN Kiezcafé
DTSTAMP:20240705T160000
ORGANIZER;CN=admin:MAILTO:websites@mts-socialdesign.com
DTSTART:20240705T160000
DTEND:20240705T180000
CATEGORIES:BENN Wilmersdorf Veranstaltungen
URL;VALUE=URI:https://benn-wilmersdorf.de/mc-events/benn-wilmersdorf-i-benn-kiezcafe-6/?mc_id=432
DESCRIPTION:Unser BENN Kiezcafé findet jeden Freitag im Haus der Nachbarschafft statt. Gemeinsam mit unseren Nachbar*innen wollen wir unseren Zusammenhalt, unser Gemeinschaftsgefühl und die Solidarität im Kiez stärken. Hierfür treffen wir uns regelmäßig im BENN Kiezcafé und setzen unsere gemeinsam geplanten Aktionen um oder kommen bei Kaffee und Kuchen ins Gespräch und lernen uns besser kennen.&hellip;
END:VEVENT
END:VCALENDAR