BEGIN:VCALENDAR
VERSION:2.0
METHOD:PUBLISH
PRODID:-//Accessible Web Design//My Calendar//http://www.joedolson.com//v//EN';
BEGIN:VEVENT
UID:417-50
LOCATION:Haus der Nachbarschafft Str. am Schoelerpark 37  Berlin  10715
SUMMARY:Netzwerk Nachbarschaft Wilmersdorf I Interkulturelles Nachbarschaftsfest Wilmersdorf
DTSTAMP:20240727T140000
ORGANIZER;CN=admin:MAILTO:websites@mts-socialdesign.com
DTSTART:20240727T140000
DTEND:20240727T200000
CATEGORIES:wöchentliches BENN Angebot, BENN Wilmersdorf Veranstaltungen
URL;VALUE=URI:https://benn-wilmersdorf.de/mc-events/netzwerk-nachbarschaft-wilmersdorf-i-interkulturelles-nachbarschaftsfest-wilmersdorf/?mc_id=417
DESCRIPTION:Das Netzwerk Nachbarschaft Wilmersdorf feiert am Samstag, den 27.07.24 ab 14 Uhr zum zweiten Mal das Interkulturelle Nachbarschaftsfest Wilmersdorf auf der Straße am Schoelerpark. Auch in diesem Jahr sind die Akteur*innen und das Angebot so vielfältig wie unser Bezirk. Und das Fest ist gewachsen – an 50 Ständen gibt es in diesem Jahr u.a. wieder&hellip;
END:VEVENT
END:VCALENDAR