BEGIN:VCALENDAR
VERSION:2.0
METHOD:PUBLISH
PRODID:-//Accessible Web Design//My Calendar//http://www.joedolson.com//v//EN';
BEGIN:VEVENT
UID:550-122
LOCATION:Benn Wilmersdorf Blissestraße 70  Berlin  10713
SUMMARY:BENN Wohnzimmerkonzert mit elektro kola
DTSTAMP:20250911T193000
ORGANIZER;CN=admin:MAILTO:websites@mts-socialdesign.com
DTSTART:20250911T193000
DTEND:20250911T203000
CATEGORIES:BENN Wilmersdorf Veranstaltungen
URL;VALUE=URI:https://benn-wilmersdorf.de/mc-events/benn-wohnzimmerkonzert-mit-elektro-kola/?mc_id=550
DESCRIPTION:
END:VEVENT
END:VCALENDAR