BEGIN:VCALENDAR
VERSION:2.0
METHOD:PUBLISH
PRODID:-//Accessible Web Design//My Calendar//http://www.joedolson.com//v//EN';
BEGIN:VEVENT
UID:545-117
LOCATION:Volkspark Wilmersdorf   Berlin  10715
SUMMARY:Park der Begegnung
DTSTAMP:20250903T143000
ORGANIZER;CN=admin:MAILTO:websites@mts-socialdesign.com
DTSTART:20250903T143000
DTEND:20250903T170000
CATEGORIES:BENN Wilmersdorf Veranstaltungen
URL;VALUE=URI:https://benn-wilmersdorf.de/mc-events/park-der-begegnung-2/?mc_id=545
DESCRIPTION:
END:VEVENT
END:VCALENDAR