BEGIN:VCALENDAR
VERSION:2.0
METHOD:PUBLISH
PRODID:-//Accessible Web Design//My Calendar//http://www.joedolson.com//v//EN';
BEGIN:VEVENT
UID:543-115
LOCATION:Haus der Nachbarschafft Str. am Schoelerpark 37  Berlin  10715
SUMMARY:Sommerfest im Haus der Nachbarschafft
DTSTAMP:20250712T143000
ORGANIZER;CN=admin:MAILTO:websites@mts-socialdesign.com
DTSTART:20250712T143000
DTEND:20250712T153000
CATEGORIES:Kiez Veranstaltungen
URL;VALUE=URI:https://benn-wilmersdorf.de/mc-events/sommerfest-im-haus-der-nachbarschafft/?mc_id=543
DESCRIPTION:
END:VEVENT
END:VCALENDAR