BEGIN:VCALENDAR
VERSION:2.0
METHOD:PUBLISH
PRODID:-//Accessible Web Design//My Calendar//http://www.joedolson.com//v//EN';
BEGIN:VEVENT
UID:542-114
LOCATION:
SUMMARY:Skate-Workshop für Kinder &amp; Jugendliche
DTSTAMP:20250804T110000
ORGANIZER;CN=admin:MAILTO:websites@mts-socialdesign.com
DTSTART:20250804T110000
DTEND:20250807T140000
CATEGORIES:BENN Wilmersdorf Veranstaltungen
URL;VALUE=URI:https://benn-wilmersdorf.de/mc-events/skate-workshop-fuer-kinder-jugendliche/?mc_id=542
DESCRIPTION:
END:VEVENT
END:VCALENDAR