BEGIN:VCALENDAR
VERSION:2.0
METHOD:PUBLISH
PRODID:-//Accessible Web Design//My Calendar//http://www.joedolson.com//v//EN';
BEGIN:VEVENT
UID:541-113
LOCATION:BENN Wilmersdorf Brabanter Straße 11-12  Berlin  10713
SUMMARY:Wohnzimmerkonzert mit Boris Messing
DTSTAMP:20250714T193000
ORGANIZER;CN=admin:MAILTO:websites@mts-socialdesign.com
DTSTART:20250714T193000
DTEND:20250714T203000
CATEGORIES:BENN Wilmersdorf Veranstaltungen
URL;VALUE=URI:https://benn-wilmersdorf.de/mc-events/wohnzimmerkonzert-mit-boris-messing/?mc_id=541
DESCRIPTION:
END:VEVENT
END:VCALENDAR