BEGIN:VCALENDAR
VERSION:2.0
METHOD:PUBLISH
PRODID:-//Accessible Web Design//My Calendar//http://www.joedolson.com//v//EN';
BEGIN:VEVENT
UID:539-112
LOCATION:BENN Wilmersdorf Brabanter Straße 11-12  Berlin  10713
SUMMARY:Wilma's MitMachKüche - Sauerteigbrot Workshop
DTSTAMP:20250716T110000
ORGANIZER;CN=admin:MAILTO:websites@mts-socialdesign.com
DTSTART:20250716T110000
DTEND:20250716T120000
CATEGORIES:BENN Wilmersdorf Veranstaltungen
URL;VALUE=URI:https://benn-wilmersdorf.de/mc-events/wilmas-mitmachkueche-sauerteigbrot-workshop/?mc_id=539
DESCRIPTION:
END:VEVENT
END:VCALENDAR