BEGIN:VCALENDAR
VERSION:2.0
METHOD:PUBLISH
PRODID:-//Accessible Web Design//My Calendar//http://www.joedolson.com//v//EN';
BEGIN:VEVENT
UID:535-111
LOCATION:Benn Wilmersdorf Blissestraße 70  Berlin  10713
SUMMARY:Sommertage bei BENN (Jugendprogramm) - Skate-Workshop mit Jan
DTSTAMP:20250804T150000
ORGANIZER;CN=admin:MAILTO:websites@mts-socialdesign.com
DTSTART:20250804T150000
DTEND:20250804T180000
CATEGORIES:BENN Wilmersdorf Veranstaltungen
URL;VALUE=URI:https://benn-wilmersdorf.de/mc-events/sommertage-bei-benn-jugendprogramm-skate-workshop-mit-jan/?mc_id=535
DESCRIPTION:
END:VEVENT
END:VCALENDAR