BEGIN:VCALENDAR
VERSION:2.0
METHOD:PUBLISH
PRODID:-//Accessible Web Design//My Calendar//http://www.joedolson.com//v//EN';
BEGIN:VEVENT
UID:530-106
LOCATION:BENN Wilmersdorf Brabanter Straße 11-12  Berlin  10713
SUMMARY:Frauenfrühstück
DTSTAMP:20251203T100000
ORGANIZER;CN=admin:MAILTO:websites@mts-socialdesign.com
DTSTART:20251203T100000
DTEND:20251203T120000
CATEGORIES:BENN Wilmersdorf Veranstaltungen
URL;VALUE=URI:https://benn-wilmersdorf.de/mc-events/frauenfruehstueck-5/?mc_id=530
DESCRIPTION:
END:VEVENT
END:VCALENDAR