BEGIN:VCALENDAR
VERSION:2.0
METHOD:PUBLISH
PRODID:-//Accessible Web Design//My Calendar//http://www.joedolson.com//v//EN';
BEGIN:VEVENT
UID:525-101
LOCATION:BENN Wilmersdorf Brabanter Straße 11-12  Berlin  10713
SUMMARY:WILMA, die MitMachKüche - Ukrainische Küche
DTSTAMP:20250709T170000
ORGANIZER;CN=admin:MAILTO:websites@mts-socialdesign.com
DTSTART:20250709T170000
DTEND:20250709T200000
CATEGORIES:BENN Wilmersdorf Veranstaltungen
URL;VALUE=URI:https://benn-wilmersdorf.de/mc-events/wilma-die-mitmachkueche-ukrainische-kueche/?mc_id=525
DESCRIPTION:
END:VEVENT
END:VCALENDAR