BEGIN:VCALENDAR
VERSION:2.0
METHOD:PUBLISH
PRODID:-//Accessible Web Design//My Calendar//http://www.joedolson.com//v//EN';
BEGIN:VEVENT
UID:523-99
LOCATION:Platz am Fennsee  Blissestraße 22  Berlin  10715
SUMMARY:Fete de la Musique: Fennsee Rave
DTSTAMP:20250621T160000
ORGANIZER;CN=admin:MAILTO:websites@mts-socialdesign.com
DTSTART:20250621T160000
DTEND:20250621T170000
CATEGORIES:Kiez Veranstaltungen
URL;VALUE=URI:https://benn-wilmersdorf.de/mc-events/fete-de-la-musique-fennsee-rave/?mc_id=523
DESCRIPTION:
END:VEVENT
END:VCALENDAR