BEGIN:VCALENDAR
VERSION:2.0
METHOD:PUBLISH
PRODID:-//Accessible Web Design//My Calendar//http://www.joedolson.com//v//EN';
BEGIN:VEVENT
UID:522-98
LOCATION:Leon-Jessel-Platz Leon-Jessel-Platz  Berlin
SUMMARY:ABSCHLUSSAUSSTELLUNG MOBILITÄTSKONZEPT FÜR DEN KIEZ RUND UM DEN LEON-JESSEL-PLATZ UND NIKOLSBURGER PLATZ
DTSTAMP:20250703T150000
ORGANIZER;CN=admin:MAILTO:websites@mts-socialdesign.com
DTSTART:20250703T150000
DTEND:20250703T190000
CATEGORIES:wöchentliches BENN Angebot
URL;VALUE=URI:https://benn-wilmersdorf.de/mc-events/abschlussausstellung-mobilitaetskonzept-fuer-den-kiez-rund-um-den-leon-jessel-platz-und-nikolsburger-platz/?mc_id=522
DESCRIPTION:
END:VEVENT
END:VCALENDAR