BEGIN:VCALENDAR
VERSION:2.0
METHOD:PUBLISH
PRODID:-//Accessible Web Design//My Calendar//http://www.joedolson.com//v//EN';
BEGIN:VEVENT
UID:521-97
LOCATION:Am Büdchen am Volkspark Am Volkspark 17y    10715
SUMMARY:ABSCHLUSS- AUSSTELLUNG MOBILITÄTSKONZEPT FÜR DEN KIEZ BABELSBERGER STRASSE
DTSTAMP:20250715T150000
ORGANIZER;CN=admin:MAILTO:websites@mts-socialdesign.com
DTSTART:20250715T150000
DTEND:20250715T190000
CATEGORIES:wöchentliches BENN Angebot
URL;VALUE=URI:https://benn-wilmersdorf.de/mc-events/abschluss-ausstellung-mobilitaetskonzept-fuer-den-kiez-babelsberger-strasse/?mc_id=521
DESCRIPTION:
END:VEVENT
END:VCALENDAR