BEGIN:VCALENDAR
VERSION:2.0
METHOD:PUBLISH
PRODID:-//Accessible Web Design//My Calendar//http://www.joedolson.com//v//EN';
BEGIN:VEVENT
UID:519-95
LOCATION:
SUMMARY:BSR Kieztag Leon-Jessel-Platz
DTSTAMP:20250619T130000
ORGANIZER;CN=admin:MAILTO:websites@mts-socialdesign.com
DTSTART:20250619T130000
DTEND:20250619T180000
CATEGORIES:wöchentliches BENN Angebot
URL;VALUE=URI:https://benn-wilmersdorf.de/mc-events/bsr-kieztag-leon-jessel-platz/?mc_id=519
DESCRIPTION:
END:VEVENT
END:VCALENDAR