BEGIN:VCALENDAR
VERSION:2.0
METHOD:PUBLISH
PRODID:-//Accessible Web Design//My Calendar//http://www.joedolson.com//v//EN';
BEGIN:VEVENT
UID:517-93
LOCATION:Haus der Nachbarschafft Str. am Schoelerpark 37  Berlin  10715
SUMMARY:Kindertheater
DTSTAMP:20250521T103000
ORGANIZER;CN=admin:MAILTO:websites@mts-socialdesign.com
DTSTART:20250521T103000
DTEND:20250521T113000
CATEGORIES:wöchentliches BENN Angebot
URL;VALUE=URI:https://benn-wilmersdorf.de/mc-events/kindertheater/?mc_id=517
DESCRIPTION:
END:VEVENT
END:VCALENDAR