BEGIN:VCALENDAR
VERSION:2.0
METHOD:PUBLISH
PRODID:-//Accessible Web Design//My Calendar//http://www.joedolson.com//v//EN';
BEGIN:VEVENT
UID:514-90
LOCATION:Benn Wilmersdorf Blissestraße 70  Berlin  10713
SUMMARY:Frauenfrühstück bei BENN Wilmersdorf
DTSTAMP:20250521T100000
ORGANIZER;CN=admin:MAILTO:websites@mts-socialdesign.com
DTSTART:20250521T100000
DTEND:20250521T120000
CATEGORIES:BENN Wilmersdorf Veranstaltungen
URL;VALUE=URI:https://benn-wilmersdorf.de/mc-events/frauenfruehstueck-bei-benn-wilmersdorf-2/?mc_id=514
DESCRIPTION:Wir laden euch herzlich zu unserem Frauenfrühstück in unserem Büro ein. In gemütlicher Runde wollen wir gemeinsam frühstücken, uns austauschen und die Nachbarschaft noch besser kennenlernen! Egal, ob ihr neue Kontakte knüpfen, Ideen teilen oder einfach einen schönen Vormittag verbringen möchtet – kommt vorbei! Für Kaffee, Tee und leckeres Frühstück ist gesorgt. Falls ihr eine&hellip;
END:VEVENT
END:VCALENDAR