BEGIN:VCALENDAR
VERSION:2.0
METHOD:PUBLISH
PRODID:-//Accessible Web Design//My Calendar//http://www.joedolson.com//v//EN';
BEGIN:VEVENT
UID:509-85
LOCATION:Gemeinschaftsunterkunft Brabanter Straße Brabanter Straße 11-12  Berlin  10713
SUMMARY:BENN Kiezgarten Infoveranstaltung
DTSTAMP:20250327T180000
ORGANIZER;CN=admin:MAILTO:websites@mts-socialdesign.com
DTSTART:20250327T180000
DTEND:20250327T190000
CATEGORIES:BENN Wilmersdorf Veranstaltungen
URL;VALUE=URI:https://benn-wilmersdorf.de/mc-events/benn-kiezgarten-infoveranstaltung/?mc_id=509
DESCRIPTION:Nachdem das letzte Jahr den neuen und alten Wilmersdorfer*innen eine reiche Ernte beschert hat – im wahrsten Sinne des Wortes – geht unser Kiezgarten-Projekt in die zweite Runde! Hast du Lust mit Menschen aus deiner Nachbarschaft zu gärtnern? Ob alleine, mit Freund*innen oder deiner Familie – bewirb dich jetzt um ein kostenloses Hochbeet in der&hellip;
END:VEVENT
END:VCALENDAR