BEGIN:VCALENDAR
VERSION:2.0
METHOD:PUBLISH
PRODID:-//Accessible Web Design//My Calendar//http://www.joedolson.com//v//EN';
BEGIN:VEVENT
UID:508-84
LOCATION:Pangea-Haus Trautenaustraße 5  Berlin  10717
SUMMARY:Kostenloser Workshop Eier bemalen für ERWACHSENE
DTSTAMP:20250409T173000
ORGANIZER;CN=admin:MAILTO:websites@mts-socialdesign.com
DTSTART:20250409T173000
DTEND:20250409T183000
CATEGORIES:wöchentliches BENN Angebot
URL;VALUE=URI:https://benn-wilmersdorf.de/mc-events/kostenloser-workshop-eier-bemalen-fuer-erwachsene/?mc_id=508
DESCRIPTION:Wachtechnik für Ukrainische Ostereier – kommt vorbei zum kostenlosen Workshop Eier bemalen für Erwachsene im PANGEA-Haus. Anmeldung bis zum 25. März: kontakt@pangea-haus.de
END:VEVENT
END:VCALENDAR