BEGIN:VCALENDAR
VERSION:2.0
METHOD:PUBLISH
PRODID:-//Accessible Web Design//My Calendar//http://www.joedolson.com//v//EN';
BEGIN:VEVENT
UID:505-81
LOCATION:Leon-Jessel-Platz Leon-Jessel-Platz  Berlin
SUMMARY:Frühjahres Putz
DTSTAMP:20250322T110000
ORGANIZER;CN=admin:MAILTO:websites@mts-socialdesign.com
DTSTART:20250322T110000
DTEND:20250322T130000
CATEGORIES:wöchentliches BENN Angebot
URL;VALUE=URI:https://benn-wilmersdorf.de/mc-events/fruehjahres-putz/?mc_id=505
DESCRIPTION:
END:VEVENT
END:VCALENDAR