BEGIN:VCALENDAR
VERSION:2.0
METHOD:PUBLISH
PRODID:-//Accessible Web Design//My Calendar//http://www.joedolson.com//v//EN';
BEGIN:VEVENT
UID:504-80
LOCATION:Benn Wilmersdorf Blissestraße 70  Berlin  10713
SUMMARY:BENN Frauenfrühstück
DTSTAMP:20250319T100000
ORGANIZER;CN=admin:MAILTO:websites@mts-socialdesign.com
DTSTART:20250319T100000
DTEND:20250319T120000
CATEGORIES:BENN Wilmersdorf Veranstaltungen
URL;VALUE=URI:https://benn-wilmersdorf.de/mc-events/benn-frauenfruehstueck/?mc_id=504
DESCRIPTION:    Nach unserem ersten Frauenfrühstück am 26. Februar 2025, bei dem 15 Frauen aus der ganzen Nachbarschaft kamen und in geselliger Runde miteinander frühstückten, richten wir das Frauenfrühstück jetzt regelmäßig aus!     Wir laden euch herzlich zu unserem Frauenfrühstück in unserem Büro ein. In gemütlicher Runde wollen wir gemeinsam frühstücken, uns austauschen und die Nachbarschaft&hellip;
END:VEVENT
END:VCALENDAR