BEGIN:VCALENDAR
VERSION:2.0
METHOD:PUBLISH
PRODID:-//Accessible Web Design//My Calendar//http://www.joedolson.com//v//EN';
BEGIN:VEVENT
UID:497-74
LOCATION:Haus der Nachbarschafft Str. am Schoelerpark 37  Berlin  10715
SUMMARY:BENN Kiezcafé
DTSTAMP:20251205T160000
ORGANIZER;CN=admin:MAILTO:websites@mts-socialdesign.com
DTSTART:20251205T160000
DTEND:20251205T180000
CATEGORIES:BENN Wilmersdorf Veranstaltungen
URL;VALUE=URI:https://benn-wilmersdorf.de/mc-events/benn-kiezcafe-5/?mc_id=497
DESCRIPTION:Jeden Freitag findet unser BENN Kiezcafé im Haus der Nachbarschafft statt. Bei Kaffee, Kuchen und Aktivitäten kommen wir ins Gespräch und lernen uns besser kennen. Auf diese Weise stärken wir den Zusammenhalt und das solidarische Gemeinschaftsgefühl in unserem Kiez. Alle vier Wochen planen wir zusammen die Aktivitäten für den kommenden Monat – hierfür freuen wir&hellip;
END:VEVENT
END:VCALENDAR