BEGIN:VCALENDAR
VERSION:2.0
METHOD:PUBLISH
PRODID:-//Accessible Web Design//My Calendar//http://www.joedolson.com//v//EN';
BEGIN:VEVENT
UID:391-38
LOCATION:Haus der Nachbarschafft Str. am Schoelerpark 37  Berlin  10715
SUMMARY:Haus der Nachbarschafft I Sprach-Café
DTSTAMP:20241204T160000
ORGANIZER;CN=admin:MAILTO:websites@mts-socialdesign.com
DTSTART:20241204T160000
DTEND:20241204T173000
CATEGORIES:wöchentliches BENN Angebot
URL;VALUE=URI:https://benn-wilmersdorf.de/mc-events/haus-der-nachbarschafft-i-sprach-cafe/?mc_id=391
DESCRIPTION:Jeden Mittwoch von 16 bis 17.30 Uhr findet im Haus der Nachbarschafft e. V. ein Sprachcafé statt. Während des Sprach-Cafés versuchen die Teilnehmer*innen sich gemeinsam der deutschen Sprache zu nähern und sich gegenseitig beim Lernen zu unterstützen. Alle Menschen, die Deutsch lernen möchten und alle Menschen, die Deutsch bereits können und helfen möchten, sind herzlich&hellip;
END:VEVENT
END:VCALENDAR