BEGIN:VCALENDAR
VERSION:2.0
METHOD:PUBLISH
PRODID:-//Accessible Web Design//My Calendar//http://www.joedolson.com//v//EN';
BEGIN:VEVENT
UID:317-9
LOCATION:
SUMMARY:BENN Wilmersdorf I Telefonische Sprechzeiten
DTSTAMP:20240801T100000
ORGANIZER;CN=admin:MAILTO:websites@mts-socialdesign.com
DTSTART:20240801T100000
DTEND:20240801T140000
CATEGORIES:Kiez Veranstaltungen
URL;VALUE=URI:https://benn-wilmersdorf.de/mc-events/benn-wilmersdorf-i-telefonische-sprechzeiten-4/?mc_id=317
DESCRIPTION:Ihr habt Ideen, Fragen oder Anregungen? Ihr wollt uns und das BENN Programm kennenlernen oder einen Austauschtermin vereinbaren? Dann ruft uns gerne an unter: 0176 247 537 73 Wir freuen uns auf Euch! Euer Team BENN Wilmersdorf
END:VEVENT
END:VCALENDAR